BEGIN:VCALENDAR
VERSION:2.0
PRODID:Events Booking
BEGIN:VEVENT
UID:69e636d40ab76
SUMMARY:Jubileumconcert 2: Barbershop meets Klezmer
DESCRIPTION:Een concertavond met Barbershop en Klezmer
LOCATION:Parklaan 93\, Eindhoven\, 5613BC Noord-Brabant\, Nederland
DTSTART:20251111T190000Z
DTEND:20251111T210000Z
DTSTAMP:20240731T091716Z
ORGANIZER;CN=AG Eindhoven:MAILTO:evenementen@ag-eindhoven.nl
GEO:51.441271;5.490661
X-APPLE-STRUCTURED-LOCATION;VALUE=URI;X-ADDRESS=Parklaan 93\, Eindhoven\, 5
 613BC Noord-Brabant\, Nederland;X-APPLE-RADIUS=72;X-TITLE=Meerlezaal:51.44
 1271;5.490661
END:VEVENT
END:VCALENDAR