BEGIN:VCALENDAR
VERSION:2.0
PRODID:Events Booking
BEGIN:VEVENT
UID:69e60457a50f6
SUMMARY:🟦 Salsa Workshop: Herhalen\, Oefenen en Afsluiten
DESCRIPTION:Salsa Workshop: Herhalen\, Oefenen en Afsluiten - De laatste wo
 rkshop
LOCATION:Parklaan 93\, Eindhoven\, 5613BC Noord-Brabant\, Nederland
DTSTART:20260512T180000Z
DTEND:20260512T200000Z
DTSTAMP:20260211T152334Z
ORGANIZER;CN=AG Eindhoven:MAILTO:evenementen@ag-eindhoven.nl
GEO:51.441271;5.490661
X-APPLE-STRUCTURED-LOCATION;VALUE=URI;X-ADDRESS=Parklaan 93\, Eindhoven\, 5
 613BC Noord-Brabant\, Nederland;X-APPLE-RADIUS=72;X-TITLE=Meerlezaal:51.44
 1271;5.490661
END:VEVENT
END:VCALENDAR